BEGIN:VCALENDAR
PRODID:-//dvv-bw.de//dvv.Portalplattform//DE
VERSION:2.0
METHOD:PUBLISH
BEGIN:VEVENT
DTSTART:20270404T070000Z
DTEND:20270404T090000Z
DTSTAMP:20260425T164348Z
UID:34268302-28485929-1806789600000
SUMMARY:Freiburg Marathon - 2027
LOCATION:Stadtgebiet
DESCRIPTION:Am Sonntag\, den 4. April 2027 findet in Freiburg wieder der Marathon (42\,195 km)\, der Halbmarathon (21\,0975 km)\, der AOK-Gesundheitslauf (10 km) und der badenova Schülermarathon (Halbmarathon-Staffel) statt.\nStart und Ziel aller Wettbewerbe ist die Messe Freiburg. Der Startschuss fällt um 9 Uhr.\nKleine Läufer*innen können sich für den Badeparadies-Mini-Marathon anmelden\, der am Marathonsamstag\, 3. April\, stattfindet.
CLASS:PUBLIC
X-ALT-DESC;FMTTYPE=text/html:Am Sonntag\, den 4. April 2027 findet in Freiburg wieder der Marathon (42\,195 km)\, der Halbmarathon (21\,0975 km)\, der AOK-Gesundheitslauf (10 km) und der badenova Schülermarathon (Halbmarathon-Staffel) statt.<br>Start und Ziel aller Wettbewerbe ist die Messe Freiburg. Der Startschuss fällt um 9 Uhr.<br>Kleine Läufer*innen können sich für den Badeparadies-Mini-Marathon anmelden\, der am Marathonsamstag\, 3. April\, stattfindet.
END:VEVENT
END:VCALENDAR
